BEGIN:VCALENDAR
VERSION:2.0
PRODID:-//RIGHTHERE//CALENDARIZE IT V3.2//EN
BEGIN:VTIMEZONE
TZID:America/New_York
X-MICROSOFT-CDO-TZID:10
BEGIN:STANDARD
DTSTART:20251102T060000
TZOFFSETFROM:-0400
TZOFFSETTO:-0500
TZNAME:EST
END:STANDARD
BEGIN:DAYLIGHT
DTSTART:20260308T070000
TZOFFSETFROM:-0500
TZOFFSETTO:-0400
TZNAME:EDT
END:DAYLIGHT
BEGIN:STANDARD
DTSTART:20261101T060000
TZOFFSETFROM:-0400
TZOFFSETTO:-0500
TZNAME:EST
END:STANDARD
END:VTIMEZONE
BEGIN:VEVENT
UID:4151-events@npcberkshires.org
DTSTART;TZID=America/New_York:20190509T090000
DTEND;TZID=America/New_York:20190509T120000
DTSTAMP;TZID=America/New_York:20190417T142908
SUMMARY:Getting Ready For Strategic Planning Workshop
URL:https://npcberkshires.org/events/getting-ready-for-strategic-planning-w
 orkshop/
LOCATION:The Red Lion Inn
END:VEVENT
END:VCALENDAR